BEGIN:VCALENDAR
VERSION:2.0
PRODID:-//Eventin//Event Calendar//EN
CALSCALE:GREGORIAN
METHOD:PUBLISH
BEGIN:VEVENT
UID:4cbbe47285c0292d4ebfed6554747361@actai.global
SUMMARY:ACTAI Bali
DESCRIPTION:ACTAI Bali marks our first gathering in the Indonesian Archipel
 ago\, set within Bali’s deeply rooted cultural landscape. Guided by the B
 alinese philosophy of Tri Hita Karana: harmony between people\, nature\, an
 d spirit—this inaugural experience brings together global leaders\, creat
 ors\, and innovators to connect with purpose. Through curated discussions a
 nd immersive experiences\, the event integrates ocean conservation and tech
 nology\, spotlighting innovative solutions advancing marine resilience acro
 ss the region.
LOCATION:Bali
DTSTAMP:20260420T113612Z
DTSTART:20260729T150000Z
DTEND:20260803T000000Z
END:VEVENT
END:VCALENDAR
